BEGIN:VCALENDAR
VERSION:2.0
PRODID:-//Varsinais-Suomen Ennakointiakatemia - ECPv6.15.20//NONSGML v1.0//EN
CALSCALE:GREGORIAN
METHOD:PUBLISH
X-ORIGINAL-URL:https://ennakointiakatemia.fi
X-WR-CALDESC:Tapahtumat Varsinais-Suomen Ennakointiakatemia
REFRESH-INTERVAL;VALUE=DURATION:PT1H
X-Robots-Tag:noindex
X-PUBLISHED-TTL:PT1H
BEGIN:VTIMEZONE
TZID:Europe/Helsinki
BEGIN:DAYLIGHT
TZOFFSETFROM:+0200
TZOFFSETTO:+0300
TZNAME:EEST
DTSTART:20250330T010000
END:DAYLIGHT
BEGIN:STANDARD
TZOFFSETFROM:+0300
TZOFFSETTO:+0200
TZNAME:EET
DTSTART:20251026T010000
END:STANDARD
BEGIN:DAYLIGHT
TZOFFSETFROM:+0200
TZOFFSETTO:+0300
TZNAME:EEST
DTSTART:20260329T010000
END:DAYLIGHT
BEGIN:STANDARD
TZOFFSETFROM:+0300
TZOFFSETTO:+0200
TZNAME:EET
DTSTART:20261025T010000
END:STANDARD
BEGIN:DAYLIGHT
TZOFFSETFROM:+0200
TZOFFSETTO:+0300
TZNAME:EEST
DTSTART:20270328T010000
END:DAYLIGHT
BEGIN:STANDARD
TZOFFSETFROM:+0300
TZOFFSETTO:+0200
TZNAME:EET
DTSTART:20271031T010000
END:STANDARD
END:VTIMEZONE
BEGIN:VEVENT
DTSTART;TZID=Europe/Helsinki:20260522T083000
DTEND;TZID=Europe/Helsinki:20260522T100000
DTSTAMP:20260426T043950
CREATED:20251118T100843Z
LAST-MODIFIED:20251118T101227Z
UID:12943-1779438600-1779444000@ennakointiakatemia.fi
SUMMARY:Signaalisessio II/2026
DESCRIPTION:
URL:https://ennakointiakatemia.fi/event/signaalisessio-ii-2026/
END:VEVENT
END:VCALENDAR