BEGIN:VCALENDAR
VERSION:2.0
PRODID:-//Varsinais-Suomen Ennakointiakatemia - ECPv6.15.20//NONSGML v1.0//EN
CALSCALE:GREGORIAN
METHOD:PUBLISH
X-WR-CALNAME:Varsinais-Suomen Ennakointiakatemia
X-ORIGINAL-URL:https://ennakointiakatemia.fi
X-WR-CALDESC:Tapahtumat Varsinais-Suomen Ennakointiakatemia
REFRESH-INTERVAL;VALUE=DURATION:PT1H
X-Robots-Tag:noindex
X-PUBLISHED-TTL:PT1H
BEGIN:VTIMEZONE
TZID:Europe/Helsinki
BEGIN:DAYLIGHT
TZOFFSETFROM:+0200
TZOFFSETTO:+0300
TZNAME:EEST
DTSTART:20240331T010000
END:DAYLIGHT
BEGIN:STANDARD
TZOFFSETFROM:+0300
TZOFFSETTO:+0200
TZNAME:EET
DTSTART:20241027T010000
END:STANDARD
BEGIN:DAYLIGHT
TZOFFSETFROM:+0200
TZOFFSETTO:+0300
TZNAME:EEST
DTSTART:20250330T010000
END:DAYLIGHT
BEGIN:STANDARD
TZOFFSETFROM:+0300
TZOFFSETTO:+0200
TZNAME:EET
DTSTART:20251026T010000
END:STANDARD
BEGIN:DAYLIGHT
TZOFFSETFROM:+0200
TZOFFSETTO:+0300
TZNAME:EEST
DTSTART:20260329T010000
END:DAYLIGHT
BEGIN:STANDARD
TZOFFSETFROM:+0300
TZOFFSETTO:+0200
TZNAME:EET
DTSTART:20261025T010000
END:STANDARD
BEGIN:DAYLIGHT
TZOFFSETFROM:+0200
TZOFFSETTO:+0300
TZNAME:EEST
DTSTART:20270328T010000
END:DAYLIGHT
BEGIN:STANDARD
TZOFFSETFROM:+0300
TZOFFSETTO:+0200
TZNAME:EET
DTSTART:20271031T010000
END:STANDARD
END:VTIMEZONE
BEGIN:VEVENT
DTSTART;TZID=Europe/Helsinki:20260422T120000
DTEND;TZID=Europe/Helsinki:20260422T153000
DTSTAMP:20260425T182756
CREATED:20260317T054607Z
LAST-MODIFIED:20260317T054607Z
UID:13342-1776859200-1776871800@ennakointiakatemia.fi
SUMMARY:Työelämäfoorumi II/2026 - Häiriöosaamisen teema
DESCRIPTION:Työstämme edelleen häiriöosaamisen tematiikkaa mm. edeltävän signaalisession ja muun tukevan aineiston siivittämänä
URL:https://ennakointiakatemia.fi/event/tyoelamafoorumi-ii-2026-hairioosaamisen-teema/
END:VEVENT
BEGIN:VEVENT
DTSTART;TZID=Europe/Helsinki:20260415T083000
DTEND;TZID=Europe/Helsinki:20260415T103000
DTSTAMP:20260425T182756
CREATED:20260218T062919Z
LAST-MODIFIED:20260218T062919Z
UID:13258-1776241800-1776249000@ennakointiakatemia.fi
SUMMARY:Futures Platform -tulevaisuusaamu I/2026
DESCRIPTION:Johdatus ajankohtaisiin tulevaisuusilmiöihin Futures Platform-ennakointialustalla. Ajankohtaisiin ilmiöihin meidät johdattaa Futuristi Marianna Mäki-Teeri Futures Platformilta. Lisäksi työskentelyä ennakointikartoilla.
URL:https://ennakointiakatemia.fi/event/futures-platform-tulevaisuusaamu-i-2026/
ATTACH;FMTTYPE=image/png:https://ennakointiakatemia.fi/wp-content/uploads/2025/10/Foresight-Apajat_kuva.png
END:VEVENT
BEGIN:VEVENT
DTSTART;TZID=Europe/Helsinki:20260317T083000
DTEND;TZID=Europe/Helsinki:20260317T100000
DTSTAMP:20260425T182756
CREATED:20251118T085708Z
LAST-MODIFIED:20260226T061131Z
UID:12939-1773736200-1773741600@ennakointiakatemia.fi
SUMMARY:Signaalisessio I/2026 - huoltovarmuus ja turvallisuus
DESCRIPTION:Turun yliopiston tulevaisuuden tutkimuskeskuksen maaliskuun Signaalisessio liittyy huoltovarmuusteemaan. Opetusneuvos Riku Honkasalo\, OPH\, puhuu osaamistarpeista ja Huoltovarmuuskeskuksen edustaja tarkastelee sekä digiteemaa että Suomen ruokaturvaa. \nOhjelma:\n\n8.30–8.35 Tilaisuuden avaus\n8.35–9.30 Tietoiskut\n\nHuoltovarmuuteen liittyvät osaamistarpeet\n\n\n\n\n\nRiku Honkasalo\, opetusneuvos\, Opetushallitus\n\n\n\n\n\nElintarvikehuolto osana huoltovarmuutta\n\n\n\n\n\nMiika Ilomäki\, ohjelmajohtaja\, Ruoka ja vesi 2030-ohjelma\, Huoltovarmuuskeskus\n\n\n\n\n9.30–9.45 Keskustelu (pienryhmät)\n\n9.45–10.00 Yhteenveto\n\nTilaisuuteen on vapaa pääsy tästä linkistä: Liity kokoukseen nyt\n\nTervetuloa mukaan linjoille!\nSignaalisessiot käsittelevät pidemmän aikavälin ilmiöitä\, ja niiden tulokset kootaan yhteen Tulevaisuusapajoissa.
URL:https://ennakointiakatemia.fi/event/signaalisessio-i-2026/
END:VEVENT
BEGIN:VEVENT
DTSTART;TZID=Europe/Helsinki:20260210T120000
DTEND;TZID=Europe/Helsinki:20260210T160000
DTSTAMP:20260425T182756
CREATED:20251118T084937Z
LAST-MODIFIED:20260119T131307Z
UID:12936-1770724800-1770739200@ennakointiakatemia.fi
SUMMARY:Työelämäfoorumi 10.2.2026 klo 12.00 alkaen SS Bore\, lähitilaisuus
DESCRIPTION:Onko meriteollisuusalan osaaminen ja koulutustarjonta ajan tasalla? \n\nTyö- ja elinkeinoministeriön osaajaselvitys\nTeknologiateollisuuden osaajatarveselvitys\nYrityspuheenvuoroja. Osaajatarve käytännön tasolla\n\nMeyer Turku Oy\, Uudenkaupungin työvene Oy\, Elomatic Oy\n\n\nBusiness Turku\nOppilaitospuheenvuoro\, TAI\n\nLue lisää ja ilmoittaudu täältä.
URL:https://ennakointiakatemia.fi/event/tyoelamafoorumi-i-2026/
END:VEVENT
BEGIN:VEVENT
DTSTART;TZID=Europe/Helsinki:20260121T120000
DTEND;TZID=Europe/Helsinki:20260121T160000
DTSTAMP:20260425T182756
CREATED:20251006T122921Z
LAST-MODIFIED:20260119T130229Z
UID:12798-1768996800-1769011200@ennakointiakatemia.fi
SUMMARY:Foresight Apajat ke 21.1.2026 klo 12.00 SS BORE\, lähitilaisuus
DESCRIPTION:Foresight Apajilla palataan vielä viime syksyn Työelämäfoorumien ja Signaalisessioiden sisältöihin ja jalostetaan niissä käsiteltyjä tulevaisuusilmiöitä.  Keskeisiä aiheita ovat mm. startup-yritykset\, yritysten kasvu ja uudistuminen\, väestöennusteet sekä työvoiman saatavuus. \nTyöpajassa rakennetaan TKI-näkökulmasta kehitysaihioita ja tulevia hankkeita. \nLähitilaisuus. \nLue lisää TÄÄLTÄ.
URL:https://ennakointiakatemia.fi/event/foresight-apajat-ke-21-1-2026-klo-12-00-ss-bore/
LOCATION:SS Bore\, Linnankatu 72\, Turku\, Varsinais-Suomi\, 20100\, Finland
ATTACH;FMTTYPE=image/png:https://ennakointiakatemia.fi/wp-content/uploads/2025/10/Foresight-Apajat_kuva.png
END:VEVENT
BEGIN:VEVENT
DTSTART;TZID=Europe/Helsinki:20251204T083000
DTEND;TZID=Europe/Helsinki:20251204T100000
DTSTAMP:20260425T182756
CREATED:20251006T121741Z
LAST-MODIFIED:20251015T143133Z
UID:12794-1764837000-1764842400@ennakointiakatemia.fi
SUMMARY:Signaalisessio 2 torstaina 4.12.2025 klo 08.30 alkaen
DESCRIPTION:Varsinais-Suomen Ennakointiakatemia ja Turun yliopiston tulevaisuudentutkimuskeskus järjestävät torstaina 4.12. klo 08.30-10.00 toisen signaalisession. Tavoittelemme näkemyksiä siitä\, mitä valitut ilmiöalueet tarkoittavat tälle alueelle\, Varsinais-Suomelle\, 10-15 vuoden aikajänteellä. Signaalisessiot ovat osa pitkän aikavälin ennakointia. Tavoitteena on edistää konkreettisten uusien  avausten syntyä esimerkiksi hankeideoiden muodossa. \nKyseessä on verkkotapahtuma (teams). Lisätietoa lähiaikoina. \nLue lisää TÄÄLTÄ.
URL:https://ennakointiakatemia.fi/event/signaalisessio-2-torstaina-4-12-2025-klo-08-30-alkaen/
LOCATION:Teams
ATTACH;FMTTYPE=image/jpeg:https://ennakointiakatemia.fi/wp-content/uploads/2025/09/Signaalisessio-kuva.jpg
END:VEVENT
BEGIN:VEVENT
DTSTART;TZID=Europe/Helsinki:20251119T120000
DTEND;TZID=Europe/Helsinki:20251119T160000
DTSTAMP:20260425T182756
CREATED:20251006T123254Z
LAST-MODIFIED:20260317T054737Z
UID:12804-1763553600-1763568000@ennakointiakatemia.fi
SUMMARY:Työelämäfoorumi V ke 19.11 klo 12.00 alkaen
DESCRIPTION:Miten varaudumme väestömuutokseen? Miltä näyttää lähitulevaisuuden työvoimatarve? \nVuoden viimeinen työelämäfoorumi (Teams). Liity mukaan TÄSTÄ.
URL:https://ennakointiakatemia.fi/event/tyoelamafoorumi-iii-ke-19-11-klo-12-00-alkaen/
LOCATION:Teams
ATTACH;FMTTYPE=image/png:https://ennakointiakatemia.fi/wp-content/uploads/2025/11/Foorumi-Aro-ja-Vahtonen-1.png
END:VEVENT
BEGIN:VEVENT
DTSTART;TZID=Europe/Helsinki:20251107T083000
DTEND;TZID=Europe/Helsinki:20251107T100000
DTSTAMP:20260425T182756
CREATED:20251006T121356Z
LAST-MODIFIED:20251016T044036Z
UID:12775-1762504200-1762509600@ennakointiakatemia.fi
SUMMARY:Signaalisessio 1 perjantaina 7.11 klo 08.30 alkaen
DESCRIPTION:Varsinais-Suomen Ennakointiakatemia ja Turun yliopiston tulevaisuudentutkimuskeskus järjestävät perjantaina 7.11 klo 08.30-10.00 ensimmäisen signaalisession. Tavoittelemme näkemyksiä siitä\, mitä valitut ilmiöalueet tarkoittavat tälle alueelle\, Varsinais-Suomelle\, 10-15 vuoden aikajänteellä. Signaalisessiot ovat osa pitkän aikavälin ennakointia. Tavoitteena on edistää konkreettisten uusien  avausten syntyä esimerkiksi hankeideoiden muodossa. \nKyseessä on verkkotapahtuma (teams). Lisätietoa lähiaikoina. \nLue lisää TÄÄLTÄ. \n 
URL:https://ennakointiakatemia.fi/event/signaalisessio-1-7-11-klo-08-30/
LOCATION:Teams
ATTACH;FMTTYPE=image/jpeg:https://ennakointiakatemia.fi/wp-content/uploads/2025/09/Signaalisessio-kuva.jpg
END:VEVENT
BEGIN:VEVENT
DTSTART;TZID=Europe/Helsinki:20251029T120000
DTEND;TZID=Europe/Helsinki:20251029T170000
DTSTAMP:20260425T182756
CREATED:20251006T113929Z
LAST-MODIFIED:20251006T113929Z
UID:12783-1761739200-1761757200@ennakointiakatemia.fi
SUMMARY:Työelämäfoorumi II/2025: Data työllistymisen tukena ke 29.10 klo 12.00 alkaen SS Bore
DESCRIPTION:Varsinais-Suomen Ennakointiakatemia ja Jatkuvan oppimisen ekosysteemityöhanke (JOE) järjestävät ennakoivan työelämäfoorumin keskiviikkona 29.10.2025 klo 12.00 alkaen SS Borella (Linnankatu 72\, Turku). \n  \nLue lisää
URL:https://ennakointiakatemia.fi/event/tyoelamafoorumi-ii-2025-data-tyollistymisen-tukena-ke-29-10-klo-12-00-alkaen-ss-bore/
LOCATION:SS Bore\, Linnankatu 72\, Turku\, Varsinais-Suomi\, 20100\, Finland
ATTACH;FMTTYPE=image/jpeg:https://ennakointiakatemia.fi/wp-content/uploads/2025/08/Tyoelama-palat-ja-ihmiset-2.jpg
END:VEVENT
END:VCALENDAR