BEGIN:VCALENDAR
VERSION:2.0
PRODID:-//Varsinais-Suomen Ennakointiakatemia - ECPv6.15.20//NONSGML v1.0//EN
CALSCALE:GREGORIAN
METHOD:PUBLISH
X-WR-CALNAME:Varsinais-Suomen Ennakointiakatemia
X-ORIGINAL-URL:https://ennakointiakatemia.fi
X-WR-CALDESC:Tapahtumat Varsinais-Suomen Ennakointiakatemia
REFRESH-INTERVAL;VALUE=DURATION:PT1H
X-Robots-Tag:noindex
X-PUBLISHED-TTL:PT1H
BEGIN:VTIMEZONE
TZID:Europe/Helsinki
BEGIN:DAYLIGHT
TZOFFSETFROM:+0200
TZOFFSETTO:+0300
TZNAME:EEST
DTSTART:20250330T010000
END:DAYLIGHT
BEGIN:STANDARD
TZOFFSETFROM:+0300
TZOFFSETTO:+0200
TZNAME:EET
DTSTART:20251026T010000
END:STANDARD
BEGIN:DAYLIGHT
TZOFFSETFROM:+0200
TZOFFSETTO:+0300
TZNAME:EEST
DTSTART:20260329T010000
END:DAYLIGHT
BEGIN:STANDARD
TZOFFSETFROM:+0300
TZOFFSETTO:+0200
TZNAME:EET
DTSTART:20261025T010000
END:STANDARD
BEGIN:DAYLIGHT
TZOFFSETFROM:+0200
TZOFFSETTO:+0300
TZNAME:EEST
DTSTART:20270328T010000
END:DAYLIGHT
BEGIN:STANDARD
TZOFFSETFROM:+0300
TZOFFSETTO:+0200
TZNAME:EET
DTSTART:20271031T010000
END:STANDARD
BEGIN:DAYLIGHT
TZOFFSETFROM:+0200
TZOFFSETTO:+0300
TZNAME:EEST
DTSTART:20280326T010000
END:DAYLIGHT
BEGIN:STANDARD
TZOFFSETFROM:+0300
TZOFFSETTO:+0200
TZNAME:EET
DTSTART:20281029T010000
END:STANDARD
END:VTIMEZONE
BEGIN:VEVENT
DTSTART;TZID=Europe/Helsinki:20260522T083000
DTEND;TZID=Europe/Helsinki:20260522T100000
DTSTAMP:20260425T165840
CREATED:20251118T100843Z
LAST-MODIFIED:20251118T101227Z
UID:12943-1779438600-1779444000@ennakointiakatemia.fi
SUMMARY:Signaalisessio II/2026
DESCRIPTION:
URL:https://ennakointiakatemia.fi/event/signaalisessio-ii-2026/
END:VEVENT
BEGIN:VEVENT
DTSTART;TZID=Europe/Helsinki:20260525T120000
DTEND;TZID=Europe/Helsinki:20260525T153000
DTSTAMP:20260425T165840
CREATED:20251118T090154Z
LAST-MODIFIED:20260331T091352Z
UID:12941-1779710400-1779723000@ennakointiakatemia.fi
SUMMARY:Työelämäfoorumi III/2026 Luovat alat
DESCRIPTION:Luovat alat\, kuten esittävät taiteet\, design\, audiovisuaalinen tuotanto\, peli- ja musiikkiteollisuus\, arkkitehtuuri ym. muodostavat kokonaisuuden\, jossa kulttuuri ja talous kohtaavat. \n\nMiltä näyttää luovien alojen tulevaisuus\, millaisia signaaleja nousee esiin? Entä miten ne linkittyvät maakuntaamme?\nMiten luovat alat kytkeytyvät kaupunkikehittämiseen ja koko maakunnan elinvoimaan?\nTarjolla on luovien alojen tiekarttoja ja strategiaa\, yritysnäkökulmia ja kommenttipuheenvuoroja. Ohjelma tarkkenee. Tule kuulolle ja keskustelemaan!\nMerkitse päivä kalenteriisi maanantai 25.5. klo 12 – 15.30. Paikka ilmoitetaan myöhemmin.
URL:https://ennakointiakatemia.fi/event/tyoelamafoorumi-luovat-alat/
END:VEVENT
BEGIN:VEVENT
DTSTART;TZID=Europe/Helsinki:20260602T120000
DTEND;TZID=Europe/Helsinki:20260602T160000
DTSTAMP:20260425T165840
CREATED:20251118T101429Z
LAST-MODIFIED:20251118T102721Z
UID:12945-1780401600-1780416000@ennakointiakatemia.fi
SUMMARY:Ennakointifoorumi I/tulevaisuusapajat 2026
DESCRIPTION:
URL:https://ennakointiakatemia.fi/event/ennakointifoorumi-i-2026/
END:VEVENT
BEGIN:VEVENT
DTSTART;TZID=Europe/Helsinki:20260902T083000
DTEND;TZID=Europe/Helsinki:20260902T103000
DTSTAMP:20260425T165840
CREATED:20260218T063149Z
LAST-MODIFIED:20260218T063149Z
UID:13261-1788337800-1788345000@ennakointiakatemia.fi
SUMMARY:Futures Platform -tulevaisuusaamu II/2026
DESCRIPTION:Johdatus ajankohtaisiin tulevaisuusilmiöihin Futures Platform-ennakointialustalla. Ajankohtaisiin ilmiöihin meidät johdattaa Futuristi Futures Platformilta. Lisäksi työskentelyä ennakointikartoilla
URL:https://ennakointiakatemia.fi/event/futures-platform-tulevaisuusaamu-ii-2026/
ATTACH;FMTTYPE=image/png:https://ennakointiakatemia.fi/wp-content/uploads/2025/10/Foresight-Apajat_kuva.png
END:VEVENT
BEGIN:VEVENT
DTSTART;TZID=Europe/Helsinki:20260922T120000
DTEND;TZID=Europe/Helsinki:20260922T160000
DTSTAMP:20260425T165840
CREATED:20260317T054806Z
LAST-MODIFIED:20260317T054827Z
UID:12947-1790078400-1790092800@ennakointiakatemia.fi
SUMMARY:Työelämäfoorumi IV/2026
DESCRIPTION:
URL:https://ennakointiakatemia.fi/event/tyoelamafoorumi-iv-2026-2/
END:VEVENT
BEGIN:VEVENT
DTSTART;TZID=Europe/Helsinki:20261023T083000
DTEND;TZID=Europe/Helsinki:20261023T100000
DTSTAMP:20260425T165840
CREATED:20251118T102013Z
LAST-MODIFIED:20251118T102013Z
UID:12949-1792744200-1792749600@ennakointiakatemia.fi
SUMMARY:Signaalisessio III/2026
DESCRIPTION:
URL:https://ennakointiakatemia.fi/event/signaalisessio-iii-2026/
END:VEVENT
BEGIN:VEVENT
DTSTART;TZID=Europe/Helsinki:20261118T120000
DTEND;TZID=Europe/Helsinki:20261118T160000
DTSTAMP:20260425T165840
CREATED:20251118T102342Z
LAST-MODIFIED:20251118T102342Z
UID:12951-1795003200-1795017600@ennakointiakatemia.fi
SUMMARY:Työelämäfoorumi IV/2026
DESCRIPTION:
URL:https://ennakointiakatemia.fi/event/tyoelamafoorumi-iv-2026/
END:VEVENT
BEGIN:VEVENT
DTSTART;TZID=Europe/Helsinki:20261202T083000
DTEND;TZID=Europe/Helsinki:20261202T100000
DTSTAMP:20260425T165840
CREATED:20251118T102524Z
LAST-MODIFIED:20251118T102524Z
UID:12953-1796200200-1796205600@ennakointiakatemia.fi
SUMMARY:Signaalisessio IV/2026
DESCRIPTION:
URL:https://ennakointiakatemia.fi/event/signaalisessio-iv-2026/
END:VEVENT
BEGIN:VEVENT
DTSTART;TZID=Europe/Helsinki:20270120T120000
DTEND;TZID=Europe/Helsinki:20270120T160000
DTSTAMP:20260425T165840
CREATED:20251118T102651Z
LAST-MODIFIED:20260119T132522Z
UID:12955-1800446400-1800460800@ennakointiakatemia.fi
SUMMARY:Ennakointifoorumi/tulevaisuusapajat II/2026
DESCRIPTION:
URL:https://ennakointiakatemia.fi/event/ennakointifoorumi-tulevaisuusapajat-ii-2026/
END:VEVENT
END:VCALENDAR